BEGIN:VCALENDAR
VERSION:2.0
PRODID:icalendar-ruby
CALSCALE:GREGORIAN
METHOD:PUBLISH
BEGIN:VEVENT
DTSTAMP:20260421T085832Z
UID:76-602630@stjudeschurch.net
DTSTART:20250320T221500Z
DTEND:20250320T230000Z
CLASS:PUBLIC
CREATED:20260420T204825
DESCRIPTION:
LAST-MODIFIED:20260420T204825
LOCATION:
SUMMARY:Gloria Singers Rehearsal
URL;VALUE=URI:https://www.stjudeschurch.net/events/gloria-singers-rehearsal
 /2025-03-20
END:VEVENT
END:VCALENDAR
