BEGIN:VCALENDAR
VERSION:2.0
PRODID:icalendar-ruby
CALSCALE:GREGORIAN
METHOD:PUBLISH
BEGIN:VEVENT
DTSTAMP:20260421T121217Z
UID:76-603197@stjudeschurch.net
DTSTART:20250403T221500Z
DTEND:20250403T230000Z
CLASS:PUBLIC
CREATED:20260421T075501
DESCRIPTION:
LAST-MODIFIED:20260421T075501
LOCATION:
SUMMARY:Gloria Singers Rehearsal
URL;VALUE=URI:https://www.stjudeschurch.net/events/gloria-singers-rehearsal
 /2025-04-03
END:VEVENT
END:VCALENDAR
