BEGIN:VCALENDAR
VERSION:2.0
PRODID:icalendar-ruby
CALSCALE:GREGORIAN
METHOD:PUBLISH
BEGIN:VEVENT
DTSTAMP:20260421T151955Z
UID:76-603764@stjudeschurch.net
DTSTART:20250424T221500Z
DTEND:20250424T230000Z
CLASS:PUBLIC
CREATED:20260421T103039
DESCRIPTION:
LAST-MODIFIED:20260421T103039
LOCATION:
SUMMARY:Gloria Singers Rehearsal
URL;VALUE=URI:https://www.stjudeschurch.net/events/gloria-singers-rehearsal
 /2025-04-24
END:VEVENT
END:VCALENDAR
