BEGIN:VCALENDAR
VERSION:2.0
PRODID:icalendar-ruby
CALSCALE:GREGORIAN
METHOD:PUBLISH
BEGIN:VEVENT
DTSTAMP:20260421T164612Z
UID:76-603765@stjudeschurch.net
DTSTART:20250501T221500Z
DTEND:20250501T230000Z
CLASS:PUBLIC
CREATED:20260421T103039
DESCRIPTION:
LAST-MODIFIED:20260421T103039
LOCATION:
SUMMARY:Gloria Singers Rehearsal
URL;VALUE=URI:https://www.stjudeschurch.net/events/gloria-singers-rehearsal
 /2025-05-01
END:VEVENT
END:VCALENDAR
