BEGIN:VCALENDAR
VERSION:2.0
PRODID:icalendar-ruby
CALSCALE:GREGORIAN
METHOD:PUBLISH
BEGIN:VEVENT
DTSTAMP:20260421T182454Z
UID:76-604331@stjudeschurch.net
DTSTART:20250508T221500Z
DTEND:20250508T230000Z
CLASS:PUBLIC
CREATED:20260421T131006
DESCRIPTION:
LAST-MODIFIED:20260421T131006
LOCATION:
SUMMARY:Gloria Singers Rehearsal
URL;VALUE=URI:https://www.stjudeschurch.net/events/gloria-singers-rehearsal
 /2025-05-08
END:VEVENT
END:VCALENDAR
