BEGIN:VCALENDAR
VERSION:2.0
PRODID:icalendar-ruby
CALSCALE:GREGORIAN
METHOD:PUBLISH
BEGIN:VEVENT
DTSTAMP:20260421T200359Z
UID:76-604897@stjudeschurch.net
DTSTART:20250515T221500Z
DTEND:20250515T230000Z
CLASS:PUBLIC
CREATED:20260421T154628
DESCRIPTION:
LAST-MODIFIED:20260421T154628
LOCATION:
SUMMARY:Gloria Singers Rehearsal
URL;VALUE=URI:https://www.stjudeschurch.net/events/gloria-singers-rehearsal
 /2025-05-15
END:VEVENT
END:VCALENDAR
