BEGIN:VCALENDAR
VERSION:2.0
PRODID:icalendar-ruby
CALSCALE:GREGORIAN
METHOD:PUBLISH
BEGIN:VEVENT
DTSTAMP:20260422T003712Z
UID:76-605465@stjudeschurch.net
DTSTART:20250605T221500Z
DTEND:20250605T230000Z
CLASS:PUBLIC
CREATED:20260421T182426
DESCRIPTION:
LAST-MODIFIED:20260421T182426
LOCATION:
SUMMARY:Gloria Singers Rehearsal
URL;VALUE=URI:https://www.stjudeschurch.net/events/gloria-singers-rehearsal
 /2025-06-05
END:VEVENT
END:VCALENDAR
