BEGIN:VCALENDAR
VERSION:2.0
PRODID:icalendar-ruby
CALSCALE:GREGORIAN
METHOD:PUBLISH
BEGIN:VEVENT
DTSTAMP:20260422T232827Z
UID:76-608308@stjudeschurch.net
DTSTART:20251204T231500Z
DTEND:20251205T000000Z
CLASS:PUBLIC
CREATED:20260422T165329
DESCRIPTION:
LAST-MODIFIED:20260422T165329
LOCATION:
SUMMARY:Gloria Singers Rehearsal
URL;VALUE=URI:https://www.stjudeschurch.net/events/gloria-singers-rehearsal
 /2025-12-04
END:VEVENT
END:VCALENDAR
