BEGIN:VCALENDAR
VERSION:2.0
PRODID:icalendar-ruby
CALSCALE:GREGORIAN
METHOD:PUBLISH
BEGIN:VEVENT
DTSTAMP:20260423T010420Z
UID:76-608875@stjudeschurch.net
DTSTART:20251211T231500Z
DTEND:20251212T000000Z
CLASS:PUBLIC
CREATED:20260422T194526
DESCRIPTION:
LAST-MODIFIED:20260422T194526
LOCATION:
SUMMARY:Gloria Singers Rehearsal
URL;VALUE=URI:https://www.stjudeschurch.net/events/gloria-singers-rehearsal
 /2025-12-11
END:VEVENT
END:VCALENDAR
