BEGIN:VCALENDAR
VERSION:2.0
PRODID:icalendar-ruby
CALSCALE:GREGORIAN
METHOD:PUBLISH
BEGIN:VEVENT
DTSTAMP:20260423T024855Z
UID:76-609442@stjudeschurch.net
DTSTART:20251218T231500Z
DTEND:20251219T000000Z
CLASS:PUBLIC
CREATED:20260422T223909
DESCRIPTION:
LAST-MODIFIED:20260422T223909
LOCATION:
SUMMARY:Gloria Singers Rehearsal
URL;VALUE=URI:https://www.stjudeschurch.net/events/gloria-singers-rehearsal
 /2025-12-18
END:VEVENT
END:VCALENDAR
